BEGIN:VCALENDAR
VERSION:2.0
PRODID:-//Triangle Social Media - ECPv6.15.20//NONSGML v1.0//EN
CALSCALE:GREGORIAN
METHOD:PUBLISH
X-WR-CALNAME:Triangle Social Media
X-ORIGINAL-URL:https://trianglesocialmedia.com
X-WR-CALDESC:Events for Triangle Social Media
REFRESH-INTERVAL;VALUE=DURATION:PT1H
X-Robots-Tag:noindex
X-PUBLISHED-TTL:PT1H
BEGIN:VTIMEZONE
TZID:America/New_York
BEGIN:DAYLIGHT
TZOFFSETFROM:-0500
TZOFFSETTO:-0400
TZNAME:EDT
DTSTART:20250309T070000
END:DAYLIGHT
BEGIN:STANDARD
TZOFFSETFROM:-0400
TZOFFSETTO:-0500
TZNAME:EST
DTSTART:20251102T060000
END:STANDARD
BEGIN:DAYLIGHT
TZOFFSETFROM:-0500
TZOFFSETTO:-0400
TZNAME:EDT
DTSTART:20260308T070000
END:DAYLIGHT
BEGIN:STANDARD
TZOFFSETFROM:-0400
TZOFFSETTO:-0500
TZNAME:EST
DTSTART:20261101T060000
END:STANDARD
BEGIN:DAYLIGHT
TZOFFSETFROM:-0500
TZOFFSETTO:-0400
TZNAME:EDT
DTSTART:20270314T070000
END:DAYLIGHT
BEGIN:STANDARD
TZOFFSETFROM:-0400
TZOFFSETTO:-0500
TZNAME:EST
DTSTART:20271107T060000
END:STANDARD
END:VTIMEZONE
BEGIN:VEVENT
DTSTART;TZID=America/New_York:20260521T113000
DTEND;TZID=America/New_York:20260521T130000
DTSTAMP:20260419T100744
CREATED:20250604T173351Z
LAST-MODIFIED:20250604T173641Z
UID:10003905-1779363000-1779368400@trianglesocialmedia.com
SUMMARY:Business Owners Meetup
DESCRIPTION:Join local entrepreneurs and small business owners for a monthly networking luncheon designed to connect\, inspire\, and empower! Hosted by Michelle of Triangle Social Media\, these gatherings feature guest speakers sharing practical insights and strategies relevant to business growth and success. \n✨ Free to attend for all area business owners! \n(We kindly support our venue by purchasing lunch.) \nCome build relationships\, gain new perspectives\, and leave equipped with ideas you can put into action. \n\nJoin the Facebook Group: www.facebook.com/groups/BusinessOwnersMeetup/\nJoin the Meetup Group: www.meetup.com/meetup-group-GEpFGqjc/
URL:https://trianglesocialmedia.com/event/business-owners-meetup-2/2026-05-21/
LOCATION:Mellow Mushroom\, 4300 NW Cary Pkwy\, Cary\, NC\, 27513\, United States
CATEGORIES:Special Event
ORGANIZER;CN="Michelle Doeffinger":MAILTO:michelle@trianglesocialmedia.com
END:VEVENT
END:VCALENDAR